BEGIN:VCALENDAR
VERSION:2.0
PRODID:-//North Shore Montessori School - ECPv6.15.20//NONSGML v1.0//EN
CALSCALE:GREGORIAN
METHOD:PUBLISH
X-ORIGINAL-URL:https://www.northshoremontessori.com
X-WR-CALDESC:Events for North Shore Montessori School
REFRESH-INTERVAL;VALUE=DURATION:PT1H
X-Robots-Tag:noindex
X-PUBLISHED-TTL:PT1H
BEGIN:VTIMEZONE
TZID:America/New_York
BEGIN:DAYLIGHT
TZOFFSETFROM:-0500
TZOFFSETTO:-0400
TZNAME:EDT
DTSTART:20160313T070000
END:DAYLIGHT
BEGIN:STANDARD
TZOFFSETFROM:-0400
TZOFFSETTO:-0500
TZNAME:EST
DTSTART:20161106T060000
END:STANDARD
BEGIN:DAYLIGHT
TZOFFSETFROM:-0500
TZOFFSETTO:-0400
TZNAME:EDT
DTSTART:20170312T070000
END:DAYLIGHT
BEGIN:STANDARD
TZOFFSETFROM:-0400
TZOFFSETTO:-0500
TZNAME:EST
DTSTART:20171105T060000
END:STANDARD
BEGIN:DAYLIGHT
TZOFFSETFROM:-0500
TZOFFSETTO:-0400
TZNAME:EDT
DTSTART:20180311T070000
END:DAYLIGHT
BEGIN:STANDARD
TZOFFSETFROM:-0400
TZOFFSETTO:-0500
TZNAME:EST
DTSTART:20181104T060000
END:STANDARD
BEGIN:DAYLIGHT
TZOFFSETFROM:-0500
TZOFFSETTO:-0400
TZNAME:EDT
DTSTART:20190310T070000
END:DAYLIGHT
BEGIN:STANDARD
TZOFFSETFROM:-0400
TZOFFSETTO:-0500
TZNAME:EST
DTSTART:20191103T060000
END:STANDARD
BEGIN:DAYLIGHT
TZOFFSETFROM:-0500
TZOFFSETTO:-0400
TZNAME:EDT
DTSTART:20200308T070000
END:DAYLIGHT
BEGIN:STANDARD
TZOFFSETFROM:-0400
TZOFFSETTO:-0500
TZNAME:EST
DTSTART:20201101T060000
END:STANDARD
BEGIN:DAYLIGHT
TZOFFSETFROM:-0500
TZOFFSETTO:-0400
TZNAME:EDT
DTSTART:20210314T070000
END:DAYLIGHT
BEGIN:STANDARD
TZOFFSETFROM:-0400
TZOFFSETTO:-0500
TZNAME:EST
DTSTART:20211107T060000
END:STANDARD
BEGIN:DAYLIGHT
TZOFFSETFROM:-0500
TZOFFSETTO:-0400
TZNAME:EDT
DTSTART:20220313T070000
END:DAYLIGHT
BEGIN:STANDARD
TZOFFSETFROM:-0400
TZOFFSETTO:-0500
TZNAME:EST
DTSTART:20221106T060000
END:STANDARD
BEGIN:DAYLIGHT
TZOFFSETFROM:-0500
TZOFFSETTO:-0400
TZNAME:EDT
DTSTART:20230312T070000
END:DAYLIGHT
BEGIN:STANDARD
TZOFFSETFROM:-0400
TZOFFSETTO:-0500
TZNAME:EST
DTSTART:20231105T060000
END:STANDARD
BEGIN:DAYLIGHT
TZOFFSETFROM:-0500
TZOFFSETTO:-0400
TZNAME:EDT
DTSTART:20240310T070000
END:DAYLIGHT
BEGIN:STANDARD
TZOFFSETFROM:-0400
TZOFFSETTO:-0500
TZNAME:EST
DTSTART:20241103T060000
END:STANDARD
END:VTIMEZONE
BEGIN:VEVENT
DTSTART;VALUE=DATE:20230317
DTEND;VALUE=DATE:20230318
DTSTAMP:20260419T090045
CREATED:20220718T133323Z
LAST-MODIFIED:20220718T133323Z
UID:1699-1679011200-1679097599@www.northshoremontessori.com
SUMMARY:Professional Development Day
DESCRIPTION:
URL:https://www.northshoremontessori.com/event/professional-development-day-2/
CATEGORIES:Professional Day
END:VEVENT
BEGIN:VEVENT
DTSTART;VALUE=DATE:20220318
DTEND;VALUE=DATE:20220319
DTSTAMP:20260419T090045
CREATED:20210708T150939Z
LAST-MODIFIED:20210708T150939Z
UID:1554-1647561600-1647647999@www.northshoremontessori.com
SUMMARY:Professional Development Day
DESCRIPTION:
URL:https://www.northshoremontessori.com/event/professional-development-day/
CATEGORIES:Professional Day,School Closed
END:VEVENT
BEGIN:VEVENT
DTSTART;VALUE=DATE:20210319
DTEND;VALUE=DATE:20210320
DTSTAMP:20260419T090045
CREATED:20200827T184225Z
LAST-MODIFIED:20200827T184225Z
UID:1401-1616112000-1616198399@www.northshoremontessori.com
SUMMARY:Professional Development Day (Staff only)
DESCRIPTION:
URL:https://www.northshoremontessori.com/event/professional-development-day-staff-only/
CATEGORIES:Professional Day
END:VEVENT
BEGIN:VEVENT
DTSTART;TZID=America/New_York:20170906T083000
DTEND;TZID=America/New_York:20170906T150000
DTSTAMP:20260419T090045
CREATED:20170707T012849Z
LAST-MODIFIED:20170707T012849Z
UID:515-1504686600-1504710000@www.northshoremontessori.com
SUMMARY:Staff Development
DESCRIPTION:
URL:https://www.northshoremontessori.com/event/staff-development/
CATEGORIES:Professional Day
END:VEVENT
BEGIN:VEVENT
DTSTART;TZID=America/New_York:20170905T083000
DTEND;TZID=America/New_York:20170905T150000
DTSTAMP:20260419T090045
CREATED:20170707T012816Z
LAST-MODIFIED:20170707T012940Z
UID:513-1504600200-1504623600@www.northshoremontessori.com
SUMMARY:Staff Orientation
DESCRIPTION:
URL:https://www.northshoremontessori.com/event/staff-orientation/
CATEGORIES:Professional Day
END:VEVENT
BEGIN:VEVENT
DTSTART;VALUE=DATE:20170310
DTEND;VALUE=DATE:20170311
DTSTAMP:20260419T090045
CREATED:20160815T225740Z
LAST-MODIFIED:20160815T225740Z
UID:297-1489104000-1489190399@www.northshoremontessori.com
SUMMARY:Professional Day (Closed)
DESCRIPTION:
URL:https://www.northshoremontessori.com/event/professional-day-closed/
CATEGORIES:Professional Day
END:VEVENT
BEGIN:VEVENT
DTSTART;TZID=America/New_York:20170309T073000
DTEND;TZID=America/New_York:20170309T120000
DTSTAMP:20260419T090045
CREATED:20160815T225714Z
LAST-MODIFIED:20160815T225714Z
UID:296-1489044600-1489060800@www.northshoremontessori.com
SUMMARY:Professional Day (Half Day)
DESCRIPTION:All classes will dismiss by 12:00 noon today.  There will be no Creative Arts or Toddler Aftercare programs.
URL:https://www.northshoremontessori.com/event/professional-day-half-day/
CATEGORIES:Professional Day
END:VEVENT
END:VCALENDAR