BEGIN:VCALENDAR
VERSION:2.0
PRODID:-//North Shore Montessori School - ECPv6.15.20//NONSGML v1.0//EN
CALSCALE:GREGORIAN
METHOD:PUBLISH
X-ORIGINAL-URL:https://www.northshoremontessori.com
X-WR-CALDESC:Events for North Shore Montessori School
REFRESH-INTERVAL;VALUE=DURATION:PT1H
X-Robots-Tag:noindex
X-PUBLISHED-TTL:PT1H
BEGIN:VTIMEZONE
TZID:America/New_York
BEGIN:DAYLIGHT
TZOFFSETFROM:-0500
TZOFFSETTO:-0400
TZNAME:EDT
DTSTART:20150308T070000
END:DAYLIGHT
BEGIN:STANDARD
TZOFFSETFROM:-0400
TZOFFSETTO:-0500
TZNAME:EST
DTSTART:20151101T060000
END:STANDARD
BEGIN:DAYLIGHT
TZOFFSETFROM:-0500
TZOFFSETTO:-0400
TZNAME:EDT
DTSTART:20160313T070000
END:DAYLIGHT
BEGIN:STANDARD
TZOFFSETFROM:-0400
TZOFFSETTO:-0500
TZNAME:EST
DTSTART:20161106T060000
END:STANDARD
BEGIN:DAYLIGHT
TZOFFSETFROM:-0500
TZOFFSETTO:-0400
TZNAME:EDT
DTSTART:20170312T070000
END:DAYLIGHT
BEGIN:STANDARD
TZOFFSETFROM:-0400
TZOFFSETTO:-0500
TZNAME:EST
DTSTART:20171105T060000
END:STANDARD
BEGIN:DAYLIGHT
TZOFFSETFROM:-0500
TZOFFSETTO:-0400
TZNAME:EDT
DTSTART:20180311T070000
END:DAYLIGHT
BEGIN:STANDARD
TZOFFSETFROM:-0400
TZOFFSETTO:-0500
TZNAME:EST
DTSTART:20181104T060000
END:STANDARD
END:VTIMEZONE
BEGIN:VTIMEZONE
TZID:UTC
BEGIN:STANDARD
TZOFFSETFROM:+0000
TZOFFSETTO:+0000
TZNAME:UTC
DTSTART:20150101T000000
END:STANDARD
END:VTIMEZONE
BEGIN:VEVENT
DTSTART;TZID=America/New_York:20170203T180000
DTEND;TZID=America/New_York:20170203T203000
DTSTAMP:20260419T085931
CREATED:20160815T225233Z
LAST-MODIFIED:20160816T010245Z
UID:293-1486144800-1486153800@www.northshoremontessori.com
SUMMARY:Spaghetti Dinner & Basket Raffle
DESCRIPTION:Join us for a delicious Spaghetti Dinner complete with crafts\, music and raffle baskets.  Friends & family welcome!
URL:https://www.northshoremontessori.com/event/spaghetti-dinner-basket-raffle/
CATEGORIES:Fundraiser
END:VEVENT
BEGIN:VEVENT
DTSTART;TZID=America/New_York:20161116T180000
DTEND;TZID=America/New_York:20161116T200000
DTSTAMP:20260419T085931
CREATED:20160815T210742Z
LAST-MODIFIED:20160815T210742Z
UID:275-1479319200-1479326400@www.northshoremontessori.com
SUMMARY:Barnes & Noble Book Fair
DESCRIPTION:Start your holiday shopping early and join us for a night of reading and crafts!
URL:https://www.northshoremontessori.com/event/barnes-noble-book-fair/
CATEGORIES:Fundraiser
END:VEVENT
BEGIN:VEVENT
DTSTART;TZID=America/New_York:20161029T120000
DTEND;TZID=America/New_York:20161029T150000
DTSTAMP:20260419T085931
CREATED:20160815T205718Z
LAST-MODIFIED:20160815T205718Z
UID:268-1477742400-1477753200@www.northshoremontessori.com
SUMMARY:Halloween Carnival
DESCRIPTION:A fun-filled family event with food\, carnival games and music.  Friends & family welcome!
URL:https://www.northshoremontessori.com/event/halloween-carnival/
CATEGORIES:Fundraiser
END:VEVENT
BEGIN:VEVENT
DTSTART;TZID=America/New_York:20161006T110000
DTEND;TZID=America/New_York:20161006T230000
DTSTAMP:20260419T085931
CREATED:20160823T041939Z
LAST-MODIFIED:20160823T041939Z
UID:328-1475751600-1475794800@www.northshoremontessori.com
SUMMARY:Chili's Gives Back to NSMS
DESCRIPTION:Dine in or take out all day (11am-11pm).  Present the NSMS flyer and Chili’s will donate 20% back to NSMS!
URL:https://www.northshoremontessori.com/event/chilis-gives-back-nsms/
CATEGORIES:Fundraiser
END:VEVENT
BEGIN:VEVENT
DTSTART;VALUE=DATE:20160520
DTEND;VALUE=DATE:20160521
DTSTAMP:20260419T085931
CREATED:20160428T061108Z
LAST-MODIFIED:20160428T061116Z
UID:44-1463702400-1463788799@www.northshoremontessori.com
SUMMARY:Arts Festival
DESCRIPTION:
URL:https://www.northshoremontessori.com/event/arts-festival-2/
CATEGORIES:Fundraiser
END:VEVENT
END:VCALENDAR